BEGIN:VCALENDAR
VERSION:2.0
PRODID:-//TTV 1980 - ECPv6.15.20//NONSGML v1.0//EN
CALSCALE:GREGORIAN
METHOD:PUBLISH
X-WR-CALNAME:TTV 1980
X-ORIGINAL-URL:https://www.ttv1980.de
X-WR-CALDESC:Veranstaltungen für TTV 1980
REFRESH-INTERVAL;VALUE=DURATION:PT1H
X-Robots-Tag:noindex
X-PUBLISHED-TTL:PT1H
BEGIN:VTIMEZONE
TZID:Europe/Berlin
BEGIN:DAYLIGHT
TZOFFSETFROM:+0100
TZOFFSETTO:+0200
TZNAME:CEST
DTSTART:20240331T010000
END:DAYLIGHT
BEGIN:STANDARD
TZOFFSETFROM:+0200
TZOFFSETTO:+0100
TZNAME:CET
DTSTART:20241027T010000
END:STANDARD
BEGIN:DAYLIGHT
TZOFFSETFROM:+0100
TZOFFSETTO:+0200
TZNAME:CEST
DTSTART:20250330T010000
END:DAYLIGHT
BEGIN:STANDARD
TZOFFSETFROM:+0200
TZOFFSETTO:+0100
TZNAME:CET
DTSTART:20251026T010000
END:STANDARD
BEGIN:DAYLIGHT
TZOFFSETFROM:+0100
TZOFFSETTO:+0200
TZNAME:CEST
DTSTART:20260329T010000
END:DAYLIGHT
BEGIN:STANDARD
TZOFFSETFROM:+0200
TZOFFSETTO:+0100
TZNAME:CET
DTSTART:20261025T010000
END:STANDARD
END:VTIMEZONE
BEGIN:VEVENT
DTSTART;TZID=Europe/Berlin:20251102T100000
DTEND;TZID=Europe/Berlin:20251102T130000
DTSTAMP:20260425T050448
CREATED:20250704T054410Z
LAST-MODIFIED:20250704T054410Z
UID:3243-1762077600-1762088400@www.ttv1980.de
SUMMARY:LTP-Training
DESCRIPTION:Unser regelmäßiges LTP-Training. Mehr Infos findest du hier.
URL:https://www.ttv1980.de/event/ltp-training-47
LOCATION:Mehrzweckhalle Gottfried-Kölwel-Grundschule Beratzhausen\, Schulweg 8\, Beratzhausen\, Bayern\, 93176\, Deutschland
ORGANIZER;CN="TTV 1980 Beratzhausen e.V.":MAILTO:sport@ttv1980.de
END:VEVENT
BEGIN:VEVENT
DTSTART;TZID=Europe/Berlin:20251109T100000
DTEND;TZID=Europe/Berlin:20251109T130000
DTSTAMP:20260425T050448
CREATED:20250704T054826Z
LAST-MODIFIED:20250704T054826Z
UID:3247-1762682400-1762693200@www.ttv1980.de
SUMMARY:LTP-Training
DESCRIPTION:Unser regelmäßiges LTP-Training. Mehr Infos findest du hier.
URL:https://www.ttv1980.de/event/ltp-training-48
LOCATION:Mehrzweckhalle Gottfried-Kölwel-Grundschule Beratzhausen\, Schulweg 8\, Beratzhausen\, Bayern\, 93176\, Deutschland
ORGANIZER;CN="TTV 1980 Beratzhausen e.V.":MAILTO:sport@ttv1980.de
END:VEVENT
BEGIN:VEVENT
DTSTART;VALUE=DATE:20251116
DTEND;VALUE=DATE:20251117
DTSTAMP:20260425T050448
CREATED:20250627T003654Z
LAST-MODIFIED:20250813T203605Z
UID:3086-1763251200-1763337599@www.ttv1980.de
SUMMARY:Jugendturnier VBEM 19/15/13 (Cham)
DESCRIPTION:
URL:https://www.ttv1980.de/event/jugendturnier-vbem-19-15-13-beratzhausen
LOCATION:Mehrzweckhalle Gottfried-Kölwel-Grundschule Beratzhausen\, Schulweg 8\, Beratzhausen\, Bayern\, 93176\, Deutschland
CATEGORIES:Sport
END:VEVENT
BEGIN:VEVENT
DTSTART;VALUE=DATE:20251128
DTEND;VALUE=DATE:20251201
DTSTAMP:20260425T050448
CREATED:20241222T002846Z
LAST-MODIFIED:20250701T060708Z
UID:2947-1764288000-1764547199@www.ttv1980.de
SUMMARY:U11 Kaderlehrgang (fraglich)
DESCRIPTION:
URL:https://www.ttv1980.de/event/u11-kaderlehrgang-4
LOCATION:Mehrzweckhalle Gottfried-Kölwel-Grundschule Beratzhausen\, Schulweg 8\, Beratzhausen\, Bayern\, 93176\, Deutschland
END:VEVENT
END:VCALENDAR