BEGIN:VCALENDAR
VERSION:2.0
PRODID:-//TTV 1980 - ECPv6.15.20//NONSGML v1.0//EN
CALSCALE:GREGORIAN
METHOD:PUBLISH
X-WR-CALNAME:TTV 1980
X-ORIGINAL-URL:https://www.ttv1980.de
X-WR-CALDESC:Veranstaltungen für TTV 1980
REFRESH-INTERVAL;VALUE=DURATION:PT1H
X-Robots-Tag:noindex
X-PUBLISHED-TTL:PT1H
BEGIN:VTIMEZONE
TZID:Europe/Berlin
BEGIN:DAYLIGHT
TZOFFSETFROM:+0100
TZOFFSETTO:+0200
TZNAME:CEST
DTSTART:20240331T010000
END:DAYLIGHT
BEGIN:STANDARD
TZOFFSETFROM:+0200
TZOFFSETTO:+0100
TZNAME:CET
DTSTART:20241027T010000
END:STANDARD
BEGIN:DAYLIGHT
TZOFFSETFROM:+0100
TZOFFSETTO:+0200
TZNAME:CEST
DTSTART:20250330T010000
END:DAYLIGHT
BEGIN:STANDARD
TZOFFSETFROM:+0200
TZOFFSETTO:+0100
TZNAME:CET
DTSTART:20251026T010000
END:STANDARD
BEGIN:DAYLIGHT
TZOFFSETFROM:+0100
TZOFFSETTO:+0200
TZNAME:CEST
DTSTART:20260329T010000
END:DAYLIGHT
BEGIN:STANDARD
TZOFFSETFROM:+0200
TZOFFSETTO:+0100
TZNAME:CET
DTSTART:20261025T010000
END:STANDARD
END:VTIMEZONE
BEGIN:VEVENT
DTSTART;TZID=Europe/Berlin:20251221T100000
DTEND;TZID=Europe/Berlin:20251221T130000
DTSTAMP:20260425T034258
CREATED:20250704T054902Z
LAST-MODIFIED:20250704T054902Z
UID:3248-1766311200-1766322000@www.ttv1980.de
SUMMARY:LTP-Training
DESCRIPTION:Unser regelmäßiges LTP-Training. Mehr Infos findest du hier.
URL:https://www.ttv1980.de/event/ltp-training-49
LOCATION:Mehrzweckhalle Gottfried-Kölwel-Grundschule Beratzhausen\, Schulweg 8\, Beratzhausen\, Bayern\, 93176\, Deutschland
ORGANIZER;CN="TTV 1980 Beratzhausen e.V.":MAILTO:sport@ttv1980.de
END:VEVENT
BEGIN:VEVENT
DTSTART;TZID=Europe/Berlin:20251221T160000
DTEND;TZID=Europe/Berlin:20251221T223000
DTSTAMP:20260425T034258
CREATED:20251105T201320Z
LAST-MODIFIED:20251105T201320Z
UID:3466-1766332800-1766356200@www.ttv1980.de
SUMMARY:Weihnachtsfeier
DESCRIPTION:
URL:https://www.ttv1980.de/event/weihnachtsfeier
LOCATION:kANNAbe\, Marktstraße 4\, Beratzhausen\, 93167\, Germany
END:VEVENT
END:VCALENDAR