BEGIN:VCALENDAR
VERSION:2.0
PRODID:-//TTV 1980 - ECPv6.15.20//NONSGML v1.0//EN
CALSCALE:GREGORIAN
METHOD:PUBLISH
X-WR-CALNAME:TTV 1980
X-ORIGINAL-URL:https://www.ttv1980.de
X-WR-CALDESC:Veranstaltungen für TTV 1980
REFRESH-INTERVAL;VALUE=DURATION:PT1H
X-Robots-Tag:noindex
X-PUBLISHED-TTL:PT1H
BEGIN:VTIMEZONE
TZID:Europe/Berlin
BEGIN:DAYLIGHT
TZOFFSETFROM:+0100
TZOFFSETTO:+0200
TZNAME:CEST
DTSTART:20250330T010000
END:DAYLIGHT
BEGIN:STANDARD
TZOFFSETFROM:+0200
TZOFFSETTO:+0100
TZNAME:CET
DTSTART:20251026T010000
END:STANDARD
BEGIN:DAYLIGHT
TZOFFSETFROM:+0100
TZOFFSETTO:+0200
TZNAME:CEST
DTSTART:20260329T010000
END:DAYLIGHT
BEGIN:STANDARD
TZOFFSETFROM:+0200
TZOFFSETTO:+0100
TZNAME:CET
DTSTART:20261025T010000
END:STANDARD
BEGIN:DAYLIGHT
TZOFFSETFROM:+0100
TZOFFSETTO:+0200
TZNAME:CEST
DTSTART:20270328T010000
END:DAYLIGHT
BEGIN:STANDARD
TZOFFSETFROM:+0200
TZOFFSETTO:+0100
TZNAME:CET
DTSTART:20271031T010000
END:STANDARD
END:VTIMEZONE
BEGIN:VEVENT
DTSTART;TZID=Europe/Berlin:20260111T100000
DTEND;TZID=Europe/Berlin:20260111T130000
DTSTAMP:20260425T021213
CREATED:20250704T054925Z
LAST-MODIFIED:20250704T054925Z
UID:3249-1768125600-1768136400@www.ttv1980.de
SUMMARY:LTP-Training
DESCRIPTION:Unser regelmäßiges LTP-Training. Mehr Infos findest du hier.
URL:https://www.ttv1980.de/event/ltp-training-50
LOCATION:Mehrzweckhalle Gottfried-Kölwel-Grundschule Beratzhausen\, Schulweg 8\, Beratzhausen\, Bayern\, 93176\, Deutschland
END:VEVENT
BEGIN:VEVENT
DTSTART;TZID=Europe/Berlin:20260118T100000
DTEND;TZID=Europe/Berlin:20260118T130000
DTSTAMP:20260425T021213
CREATED:20250704T054949Z
LAST-MODIFIED:20250704T054949Z
UID:3250-1768730400-1768741200@www.ttv1980.de
SUMMARY:LTP-Training
DESCRIPTION:Unser regelmäßiges LTP-Training. Mehr Infos findest du hier.
URL:https://www.ttv1980.de/event/ltp-training-51
LOCATION:Mehrzweckhalle Gottfried-Kölwel-Grundschule Beratzhausen\, Schulweg 8\, Beratzhausen\, Bayern\, 93176\, Deutschland
ORGANIZER;CN="TTV 1980 Beratzhausen e.V.":MAILTO:sport@ttv1980.de
END:VEVENT
BEGIN:VEVENT
DTSTART;VALUE=DATE:20260125
DTEND;VALUE=DATE:20260126
DTSTAMP:20260425T021213
CREATED:20250627T012500Z
LAST-MODIFIED:20250627T012500Z
UID:3095-1769299200-1769385599@www.ttv1980.de
SUMMARY:Jugendturnier VB FF MM 19/15/13
DESCRIPTION:
URL:https://www.ttv1980.de/event/jugendturnier-vb-ff-mm-19-15-13
LOCATION:Mehrzweckhalle Gottfried-Kölwel-Grundschule Beratzhausen\, Schulweg 8\, Beratzhausen\, Bayern\, 93176\, Deutschland
END:VEVENT
END:VCALENDAR