BEGIN:VCALENDAR
VERSION:2.0
PRODID:-//TTV 1980 - ECPv6.15.20//NONSGML v1.0//EN
CALSCALE:GREGORIAN
METHOD:PUBLISH
X-ORIGINAL-URL:https://www.ttv1980.de
X-WR-CALDESC:Veranstaltungen für TTV 1980
REFRESH-INTERVAL;VALUE=DURATION:PT1H
X-Robots-Tag:noindex
X-PUBLISHED-TTL:PT1H
BEGIN:VTIMEZONE
TZID:Europe/Berlin
BEGIN:DAYLIGHT
TZOFFSETFROM:+0100
TZOFFSETTO:+0200
TZNAME:CEST
DTSTART:20250330T010000
END:DAYLIGHT
BEGIN:STANDARD
TZOFFSETFROM:+0200
TZOFFSETTO:+0100
TZNAME:CET
DTSTART:20251026T010000
END:STANDARD
BEGIN:DAYLIGHT
TZOFFSETFROM:+0100
TZOFFSETTO:+0200
TZNAME:CEST
DTSTART:20260329T010000
END:DAYLIGHT
BEGIN:STANDARD
TZOFFSETFROM:+0200
TZOFFSETTO:+0100
TZNAME:CET
DTSTART:20261025T010000
END:STANDARD
BEGIN:DAYLIGHT
TZOFFSETFROM:+0100
TZOFFSETTO:+0200
TZNAME:CEST
DTSTART:20270328T010000
END:DAYLIGHT
BEGIN:STANDARD
TZOFFSETFROM:+0200
TZOFFSETTO:+0100
TZNAME:CET
DTSTART:20271031T010000
END:STANDARD
END:VTIMEZONE
BEGIN:VEVENT
DTSTART;TZID=Europe/Berlin:20260208T100000
DTEND;TZID=Europe/Berlin:20260208T130000
DTSTAMP:20260425T004850
CREATED:20250704T055014Z
LAST-MODIFIED:20250704T055014Z
UID:3251-1770544800-1770555600@www.ttv1980.de
SUMMARY:LTP-Training
DESCRIPTION:Unser regelmäßiges LTP-Training. Mehr Infos findest du hier.
URL:https://www.ttv1980.de/event/ltp-training-52
LOCATION:Mehrzweckhalle Gottfried-Kölwel-Grundschule Beratzhausen\, Schulweg 8\, Beratzhausen\, Bayern\, 93176\, Deutschland
ORGANIZER;CN="TTV 1980 Beratzhausen e.V.":MAILTO:sport@ttv1980.de
END:VEVENT
BEGIN:VEVENT
DTSTART;TZID=Europe/Berlin:20260215T100000
DTEND;TZID=Europe/Berlin:20260215T130000
DTSTAMP:20260425T004850
CREATED:20250704T060531Z
LAST-MODIFIED:20250704T060611Z
UID:3252-1771149600-1771160400@www.ttv1980.de
SUMMARY:LTP-Training
DESCRIPTION:Unser regelmäßiges LTP-Training. Mehr Infos findest du hier.
URL:https://www.ttv1980.de/event/ltp-training-53
LOCATION:Mehrzweckhalle Gottfried-Kölwel-Grundschule Beratzhausen\, Schulweg 8\, Beratzhausen\, Bayern\, 93176\, Deutschland
ORGANIZER;CN="TTV 1980 Beratzhausen e.V.":MAILTO:sport@ttv1980.de
END:VEVENT
BEGIN:VEVENT
DTSTART;TZID=Europe/Berlin:20260215T100000
DTEND;TZID=Europe/Berlin:20260215T170000
DTSTAMP:20260425T004850
CREATED:20260202T075850Z
LAST-MODIFIED:20260202T075850Z
UID:3681-1771149600-1771174800@www.ttv1980.de
SUMMARY:Mini Meisterschaften Ortsentscheid (Parsberg)
DESCRIPTION:
URL:https://www.ttv1980.de/event/mini-meisterschaften-ortsentscheid-parsberg
LOCATION:Mittelschule Parsberg\, Aschenbrennerstraße 8\,\, Parsberg\, Bayern\, 92331\, Deutschland
END:VEVENT
END:VCALENDAR