BEGIN:VCALENDAR
VERSION:2.0
PRODID:-//TTV 1980 - ECPv6.15.20//NONSGML v1.0//EN
CALSCALE:GREGORIAN
METHOD:PUBLISH
X-ORIGINAL-URL:https://www.ttv1980.de
X-WR-CALDESC:Veranstaltungen für TTV 1980
REFRESH-INTERVAL;VALUE=DURATION:PT1H
X-Robots-Tag:noindex
X-PUBLISHED-TTL:PT1H
BEGIN:VTIMEZONE
TZID:Europe/Berlin
BEGIN:DAYLIGHT
TZOFFSETFROM:+0100
TZOFFSETTO:+0200
TZNAME:CEST
DTSTART:20210328T010000
END:DAYLIGHT
BEGIN:STANDARD
TZOFFSETFROM:+0200
TZOFFSETTO:+0100
TZNAME:CET
DTSTART:20211031T010000
END:STANDARD
BEGIN:DAYLIGHT
TZOFFSETFROM:+0100
TZOFFSETTO:+0200
TZNAME:CEST
DTSTART:20220327T010000
END:DAYLIGHT
BEGIN:STANDARD
TZOFFSETFROM:+0200
TZOFFSETTO:+0100
TZNAME:CET
DTSTART:20221030T010000
END:STANDARD
BEGIN:DAYLIGHT
TZOFFSETFROM:+0100
TZOFFSETTO:+0200
TZNAME:CEST
DTSTART:20230326T010000
END:DAYLIGHT
BEGIN:STANDARD
TZOFFSETFROM:+0200
TZOFFSETTO:+0100
TZNAME:CET
DTSTART:20231029T010000
END:STANDARD
END:VTIMEZONE
BEGIN:VEVENT
DTSTART;VALUE=DATE:20221101
DTEND;VALUE=DATE:20221102
DTSTAMP:20260423T005714
CREATED:20220928T081451Z
LAST-MODIFIED:20220928T081451Z
UID:1417-1667260800-1667347199@www.ttv1980.de
SUMMARY:DTTB Schnuppermobil
DESCRIPTION:Der TTV 1980 Beratzhausen darf das DTTB Schnuppermobil willkommen heißen!
URL:https://www.ttv1980.de/event/dttb-schnuppermobil
LOCATION:Mehrzweckhalle Gottfried-Kölwel-Grundschule Beratzhausen\, Schulweg 8\, Beratzhausen\, Bayern\, 93176\, Deutschland
CATEGORIES:Sport
ORGANIZER;CN="TTV 1980 Beratzhausen e.V.":MAILTO:sport@ttv1980.de
END:VEVENT
END:VCALENDAR